BEGIN:VCALENDAR
VERSION:2.0
PRODID:https://github.com/derhansen/sf_event_mgt
METHOD:PUBLISH
BEGIN:VEVENT
UID:449-19@www.dhpg.de
CLASS: PUBLIC
SUMMARY:Zertifikatslehrgang: GmbH-Geschäftsführer/-in und GmbH-Gesellschafter/-in (IHK)
DESCRIPTION:\n\nAuf die Führungsrolle in einer GmbH werden nur wenige Gesch
 äftsführer ausreichend vorbereitet. Für diese Tätigkeit sind fundierte rech
 tliche Grundkenntnisse sowohl im Zivil-, als auch im Handels- und Steuerrec
 ht notwendig sowie ein grundlegendes Wissen im Bereich des Rechnungswesens.
  Daneben sollte ein GmbH-Geschäftsführer Kenntnisse über die Fallstricke de
 r persönlichen Haftung haben. Dies ist die Basis um als GmbH-Geschäftsführe
 r verantwortungsvolle Entscheidungen zu treffen. In diesem fünftägigen Lehr
 gang machen Sie WP StB Dr. Matthias Johnen, RA Tim Löhrer und StB Karsten S
 ievers, Berater bei der dhpg, fit für Ihre Aufgabe.\n\n\n\nDie Themen\n\n 	
 Das Steuerrecht rund um die GmbH 	Das GmbH-Gesellschaftsrecht 	Die GmbH als
  Arbeitgeber, der Geschäftsführer als Arbeitnehmer 	Bilanzierung und Buchha
 ltung 	Betriebswirtschaftliche Aspekte der GmbH \n\n\n\nWeitere Information
 en und die Möglichkeit zur Anmeldung finden Sie unter dem Button "Jetzt anm
 elden".
LOCATION:IHK Mittlerer Niederrhein
DTSTART:20231016T060000Z
DTEND:20231020T150000Z
END:VEVENT
END:VCALENDAR