BEGIN:VCALENDAR
VERSION:2.0
PRODID:https://github.com/derhansen/sf_event_mgt
METHOD:PUBLISH
BEGIN:VEVENT
UID:349-19@www.dhpg.de
CLASS: PUBLIC
SUMMARY:Online-Seminar: Lösungen gesucht - Mit neuem Mut in die Zukunft schauen
DESCRIPTION:Raus aus der Krise lautet das Gebot der Stunde für die deutsche
  und die internationale Wirtschaft. Der aktuelle Krisenradar der Wirtschaft
  blickt insbesondere auf die Liquidität, das Vermeiden von Verlusten und di
 e Vermögenssicherung. Bei dieser Veranstaltung wird gezeigt, wie Sie mithil
 fe einer pragmatischen Unternehmens- und Liquiditätsplanung die Grundlagen 
 für die Sicherung Ihrer Vermögenswerte legen. Die Experten der dhpg, Christ
 ian Senger, Rechtsanwalt und Partner, sowie Volker Loesenbeck, Wirtschaftsp
 rüfer, Steuerberater und Partner, geben Ihnen eine Übersicht über Möglichke
 iten des Gesetzgebers, das Unternehmen zu entschulden. In einem kurzen Exku
 rs steht zudem die Haftung von Geschäftsführer*innen im Vordergrund.\n\n\n\
 nWeitere Informationen und Hinweise zur Anmeldung erhalten Sie unter folgen
 dem "Jetzt anmelden".
LOCATION:online
DTSTART:20210701T150000Z
DTEND:20210415T160000Z
END:VEVENT
END:VCALENDAR