BEGIN:VCALENDAR
VERSION:2.0
PRODID:https://github.com/derhansen/sf_event_mgt
METHOD:PUBLISH
BEGIN:VEVENT
UID:586-19@www.dhpg.de
CLASS: PUBLIC
SUMMARY:dhpg Online-Seminar: Künstliche Intelligenz rechtssicher einsetzen am 23.4.2026
DESCRIPTION:Die Künstliche Intelligenz (KI) verändert Prozesse und den Umga
 ng mit unseren Daten grundlegend. Sie erzeugt neue Inhalte auf Basis vorhan
 dener Daten und eröffnet Unternehmen vielfältige Möglichkeiten zur Effizien
 zsteigerung und Innovation. Dabei ist KI nicht nur ein technisches, sondern
  auch ein rechtliches und organisatorisches Querschnittsthema: Unternehmen 
 sollten sich mit Aspekten wie Urheberrecht und dem Schutz von Geschäftsgehe
 imnissen auseinandersetzen, insbesondere wenn KI-generierte Inhalte genutzt
  oder weiterverarbeitet werden. U.a. die korrekte Zitierung trägt zur Trans
 parenz und Rechtssicherheit bei.\n\nUnser Datenschutzexperte gibt Ihnen ein
 en kompakten Einblick in die wichtigsten Aspekte rund um die Sicherheit und
  den Datenschutz beim Einsatz von Künstlicher Intelligenz. Im Online-Semina
 r beleuchtet er Chancen und Risiken sowie rechtliche Rahmenbedingungen beim
  Einsatz von KI. Profitieren Sie von einem praxisnahen Impuls zu Ethik, Qua
 litätssicherung und Informationssicherheit und erfahren Sie, wie KI verantw
 ortungsvoll und rechtssicher im Unternehmen genutzt werden kann.\n\nWir fre
 uen uns ganz besonders, wenn Sie dabei sind.  \n\nDas Programm\n\n 	KI als 
 rechtliches und organisatorisches Querschnittsthema  	 		Urheberrecht, Gesc
 häftsgeheimnisgesetz, betriebliche Mitbestimmung, Haftung und Spezialregelu
 ngen wie das Berufsrecht 		Qualitätssicherung, Informationssicherheitsmanag
 ementsystem (ISMS), Zitierung 	 	 	AI-Act / KI-Verordnung 	Datenschutzrecht
  / DSGVO \n\n\n\nUnser Experte\n\nDr. Christian Lenz ist Rechtsanwalt und S
 enior Partner bei der dhpg. Als Fachanwalt für Steuerrecht und Fachanwalt f
 ür Informationstechnologierecht berät er mittelständische Unternehmen im Wi
 rtschaftsrecht. Der Fokus seiner Tätigkeit liegt in der IT- und datenschutz
 rechtlichen Beratung mittelständischer Unternehmen. Daneben berät er Untern
 ehmen bei der Entwicklung von Compliance Management Systemen.\n\n\n\nÜber d
 en unten aufgeführten Link gelangen Sie zur Registrierung und können sich k
 ostenfrei zum Online-Seminar anmelden.
LOCATION:online
DTSTART:20260423T080000Z
DTEND:20260423T090000Z
END:VEVENT
END:VCALENDAR